BEGIN:VCALENDAR
VERSION:2.0
BEGIN:VEVENT
DTSTART:20200406T053000Z
DTEND:20200406T073000Z
SUMMARY:BizNet April 2020
DESCRIPTION:Introducing Collegiate Business Consulting to New Zealand – a new way to tackle business challenges in collaboration with young professionals.
LOCATION:NIMIT - A304, 322 Hardy Street, Nelson, 7010
END:VEVENT
END:VCALENDAR