BEGIN:VCALENDAR
VERSION:2.0
BEGIN:VEVENT
DTSTART:20200212T204500Z
DTEND:20200213T004500Z
SUMMARY:FREE: KickStart Your Business February 2020
DESCRIPTION:Are you thinking about going into business or recently started your own business?
Then this free "KICK START YOUR BUSINESS” WORKSHOP is for you!
LOCATION:Richmond Library, 280 Queen Street, Richmond, Tasman, 7020
END:VEVENT
END:VCALENDAR